BEGIN:VCALENDAR
VERSION:2.0
PRODID:-//The BRIGHT - ECPv4.2.5//NONSGML v1.0//EN
CALSCALE:GREGORIAN
METHOD:PUBLISH
X-WR-CALNAME:The BRIGHT
X-ORIGINAL-URL:https://www.thebright.co.th
X-WR-CALDESC:Events for The BRIGHT
BEGIN:VEVENT
DTSTART;TZID=UTC+0:20231107T110000
DTEND;TZID=UTC+0:20231107T150000
DTSTAMP:20260422T102049
CREATED:20231026T033223
LAST-MODIFIED:20231026T033228
UID:10401-1699354800-1699369200@www.thebright.co.th
SUMMARY:Blood Donation
DESCRIPTION:"THE BRIGHT ขอเชิญชวนทุกท่านมาบริจาคโลหิต" ศูนย์การค้าเดอะไบรท์ ร่วมกับสภากาชาดไทย วันอังคารที่ 7 พฤศจิกายน 66 เวลา 11.00 - 15.00 น. ณ ลานกิจกรรม ชั้น G สอบถามรายละเอียด โทร. 099 446 4626  "พบกันทุกวันอังคารแรกของทุกเดือน"
URL:https://www.thebright.co.th/event/blood-donation-17/
LOCATION:15/6 Rama2 Rd.\,\, Thakarm\, Bangkhunthian\,\, Bangkok \, 10110\, Thailand
CATEGORIES:2023
END:VEVENT
END:VCALENDAR