BEGIN:VCALENDAR
VERSION:2.0
PRODID:-//The BRIGHT - ECPv4.2.5//NONSGML v1.0//EN
CALSCALE:GREGORIAN
METHOD:PUBLISH
X-WR-CALNAME:The BRIGHT
X-ORIGINAL-URL:https://www.thebright.co.th
X-WR-CALDESC:Events for The BRIGHT
BEGIN:VEVENT
DTSTART;TZID=UTC+0:20230925T110000
DTEND;TZID=UTC+0:20230928T150000
DTSTAMP:20260422T163832
CREATED:20230817T032721
LAST-MODIFIED:20230817T032804
UID:10301-1695639600-1695913200@www.thebright.co.th
SUMMARY:BKK Mobile Service
DESCRIPTION:"รถบริการงานทะเบียนเคลื่อนที่ (Bangkok Mobile Service)" วันที่ 25-28 กันยายน 2566 พบกันเวลา 11.00 - 15.00 น. บริการทำบัตรประชาชน คัดสำเนาทะเบียนบ้าน *ยกเว้นกรณีบัตรหาย ณ บริเวณวงเวียนน้ำพุ ชั้น G ศูนย์การค้า เดอะไบรท์ พระราม 2 คอมมูนิตี้มอลล์
URL:https://www.thebright.co.th/event/bkk-mobile-service/
LOCATION:15/6 Rama2 Rd.\,\, Thakarm\, Bangkhunthian\,\, Bangkok \, 10110\, Thailand
CATEGORIES:2023
ATTACH;FMTTYPE=image/jpeg:https://www.thebright.co.th/wp-content/uploads/BKK-Mobile-Service-1.jpg
END:VEVENT
END:VCALENDAR