BEGIN:VCALENDAR
VERSION:2.0
PRODID:-//The BRIGHT - ECPv4.2.5//NONSGML v1.0//EN
CALSCALE:GREGORIAN
METHOD:PUBLISH
X-WR-CALNAME:The BRIGHT
X-ORIGINAL-URL:https://www.thebright.co.th
X-WR-CALDESC:Events for The BRIGHT
BEGIN:VEVENT
DTSTART;TZID=UTC+0:20220206T100000
DTEND;TZID=UTC+0:20220206T190000
DTSTAMP:20260420T093400
CREATED:20220119T084244
LAST-MODIFIED:20220119T084525
UID:9472-1644141600-1644174000@www.thebright.co.th
SUMMARY:Big Size Thailand
DESCRIPTION:"ธิดาช้าง ภาคตะวันออก 2022" วันอาทิตย์ ที่ 6 กุมภาพันธ์ 65 เวลา 10.00-19.00 น. พบกับมินิคอนเสิร์ต เปา กิ่งกาญจน์ การแสดงโชว์จากรุ่นพี่ธิดาช้างภาคต่าง ๆ การประชันความงามจากผู้เข้าประกวดสาวงามทั่วประเทศ เพื่อเฟ้นหาผู้ชนะเพียง 1 เดียว เข้าไปชิงตำแหน่ง "ธิดาช้างไทยแลนด์"  คนต่อไป ณ ลานกิจกรรม ชั้น 1 เดอะไบรท์ พระราม 2 คอมมูนิตี้มอลล์
URL:https://www.thebright.co.th/event/big-size-thailand/
LOCATION:15/6 Rama2 Rd.\,\, Thakarm\, Bangkhunthian\,\, Bangkok \, 10110\, Thailand
CATEGORIES:2022
ATTACH;FMTTYPE=image/jpeg:https://www.thebright.co.th/wp-content/uploads/BigQueen65.jpg
END:VEVENT
END:VCALENDAR