BEGIN:VCALENDAR
VERSION:2.0
PRODID:-//The BRIGHT - ECPv4.2.5//NONSGML v1.0//EN
CALSCALE:GREGORIAN
METHOD:PUBLISH
X-WR-CALNAME:The BRIGHT
X-ORIGINAL-URL:https://www.thebright.co.th
X-WR-CALDESC:Events for The BRIGHT
BEGIN:VEVENT
DTSTART;TZID=UTC+0:20240902T100000
DTEND;TZID=UTC+0:20240924T200000
DTSTAMP:20260421T211756
CREATED:20240902T032713
LAST-MODIFIED:20240902T032728
UID:10832-1725271200-1727208000@www.thebright.co.th
SUMMARY:Big Sale
DESCRIPTION:"THE BRIGHT SEPTEMBER BIG SALE" พบโปรโมชั่นลดแรงสูงสุด 80% OFF  อาทิ เสื้อผ้าเด็ก\, เสื้อแฟชั่นสุดชิค\, กางเกงแฟชั่น\, ยีนส์ขาสั้น และอื่น ๆ อีกมากมายหลายร้อยรายการ วันที่  2 - 24 กันยายน 2567 เวลา 10.00 - 20.00 น. ณ ลานกิจกรรม ชั้น G เดอะไบรท์ คอมมูนิตี้มอลล์ พระราม 2
URL:https://www.thebright.co.th/event/big-sale/
LOCATION:15/6 Rama2 Rd.\,\, Thakarm\, Bangkhunthian\,\, Bangkok \, 10110\, Thailand
CATEGORIES:2024
ATTACH;FMTTYPE=image/jpeg:https://www.thebright.co.th/wp-content/uploads/Big-Sale_Sep67.jpg
END:VEVENT
END:VCALENDAR