BEGIN:VCALENDAR
VERSION:2.0
PRODID:-//The BRIGHT - ECPv4.2.5//NONSGML v1.0//EN
CALSCALE:GREGORIAN
METHOD:PUBLISH
X-WR-CALNAME:The BRIGHT
X-ORIGINAL-URL:https://www.thebright.co.th
X-WR-CALDESC:Events for The BRIGHT
BEGIN:VEVENT
DTSTART;TZID=UTC+0:20230116T100000
DTEND;TZID=UTC+0:20230131T210000
DTSTAMP:20260425T005252
CREATED:20221229T072812
LAST-MODIFIED:20221229T073116
UID:9998-1673863200-1675198800@www.thebright.co.th
SUMMARY:Book Time
DESCRIPTION:"BOOK TIME 2023"  วันที่ 16-31 มกราคม 2023 พบกับบูธจำหน่ายหนังสือจากสำนักพิมพ์สุขภาพใจที่มีหนังสือหลากหลายแนว มาให้เลือกช้อปอย่างจุใจ พร้อมทั้งโปรโมชั่นมากมายภายในงาน ณ ลานกิจกรรม ชั้น G
URL:https://www.thebright.co.th/event/%e0%b8%babook-time/
LOCATION:15/6 Rama2 Rd.\,\, Thakarm\, Bangkhunthian\,\, Bangkok \, 10110\, Thailand
CATEGORIES:2023
ATTACH;FMTTYPE=image/jpeg:https://www.thebright.co.th/wp-content/uploads/Book-Time2023.jpg
END:VEVENT
END:VCALENDAR